BEGIN:VCALENDAR
PRODID:NingEventWidget-v1
VERSION:2.0
METHOD:PUBLISH
BEGIN:VEVENT
UID:4320450:Event:33701
DTSTAMP:20260425T142624Z
SUMMARY:4th Annual SourFest at Devil's Den
DESCRIPTION:Its that time of year again, and we have been collecting t
 he best of the sour, tart, funky and anything that makes your lips puc
 ker. We will be pouring a tower of sour all week.   There will be wil
 d Ales, Guezes, Lambics, fruit Ales, Berliner Weisses, . . . . We went
  all out for our line up this year so look for the best sours that we 
 could get our hands on. We have the largest selection of sour beers fo
 r this event that we decided to pour sours on all 17 draft lines on S
 aturday, August 17th, then we will devote a draft tower (8 lines) to s
 our beers the rest of the week.\n\nFor more information visit http://p
 hillytodo.com/events/4th-annual-sourfest-at-devil-s-den
DTSTART:20130817T040000Z
DTEND:20130824T035900Z
CATEGORIES:party, festival
LOCATION:Devil's Den Philly
WEBSITE:
URL:
CONTACT:(215) 339-0855
ORGANIZER;CN="Punch Media":http://phillytodo.com/profile/PunchMedia
ATTACH;FMTTYPE="image/jpeg":http://storage.ning.com/topology/rest/1.0/
 file/get/3054966862?profile=original
ATTENDEE;ROLE=REQ-PARTICIPANT;PARTSTAT=ACCEPTED;RSVP=TRUE;CN="Punch Me
 dia":http://phillytodo.com/profile/PunchMedia
END:VEVENT
END:VCALENDAR
