BEGIN:VCALENDAR
PRODID:NingEventWidget-v1
VERSION:2.0
METHOD:PUBLISH
BEGIN:VEVENT
UID:4320450:Event:18901
DTSTAMP:20260425T155215Z
SUMMARY:4th Annual Ghosts + Goblins Halloween Party in Manayunk!
DESCRIPTION:Announcing the 4th Annual Ghosts + Goblins Halloween Party
  in Manayunk.  Stay close to home this year - hit Manayunk for Ghosts
  + Goblins!  These are Philadelphia's highest visibility and most exc
 lusive Halloween event, make sure you are there.  THIS EVENT WILL SEL
 L OUT IN ADVANCE - it does every year.\n \nThe party starts at 8pm an
 d lasts all night long.  Get there early for open bar (VIPs only) & g
 reat drink specials - see details on the ticket website.  VIPs will e
 njoy the entire 2nd floor of the Manayunk Brewery with MULTIPLE BARS a
 nd bartenders!  You know what that means... no long lines for drinks!
   So, stop reading here, grab your friends, check out the details, an
 d buy your tickets for Halloween in Philadelphia 2011 - once again you
  will be glad that you did!\n\nFor more information visit http://phill
 ytodo.com/events/4th-annual-ghosts-goblins-halloween-party-in-manayunk
DTSTART:20111030T000000Z
DTEND:20111030T060000Z
CATEGORIES:halloween, party
LOCATION:The Manayunk Brewery
WEBSITE:http://ghostsgoblins-REFCODE.eventbrite.com
URL:http://ghostsgoblins-REFCODE.eventbrite.com
CONTACT:
ORGANIZER;CN="UpcomingEvents.com":http://phillytodo.com/profile/Upcomi
 ngEventscom
ATTACH;FMTTYPE="image/jpeg":
ATTENDEE;ROLE=REQ-PARTICIPANT;PARTSTAT=ACCEPTED;RSVP=TRUE;CN="Upcoming
 Events.com":http://phillytodo.com/profile/UpcomingEventscom
END:VEVENT
END:VCALENDAR
