BEGIN:VCALENDAR
PRODID:NingEventWidget-v1
VERSION:2.0
METHOD:PUBLISH
BEGIN:VEVENT
UID:4320450:Event:12609
DTSTAMP:20260425T173642Z
SUMMARY:4th Annual Beer Fest at the Ballpark!
DESCRIPTION:Welcome to Beer Fest at the Ballpark 2011 - you and your f
 amily, friends, and co-workers are all invited! Enjoy an incredible da
 y at McFadden's Ballpark sampling over 50 Different Beers from 25+ Cra
 ft Breweries all while listening to Live Band & DJ Music, indulging on
  Great Ballpark Food (yes, it's included!).   50/50 Raffle for Great
  Prizes - 100% of proceeds to support charity.  AND MUCH MORE!  Lim
 ited VIP Tickets (includes 2-hour private tasting & presentation) and 
 General Admission tickets are available - do not wait to buy them as t
 hey are ALREADY selling VERY FAST!\n\nFor more information visit http:
 //phillytodo.com/events/4th-annual-beer-fest-at-the
DTSTART:20110910T180000Z
DTEND:20110910T230000Z
CATEGORIES:"beer fest"
LOCATION:McFadden's Ballpark
WEBSITE:https://www.upcomingevents.com/secure/tickets/buy/7775/
URL:https://www.upcomingevents.com/secure/tickets/buy/7775/
CONTACT:
ORGANIZER;CN="UpcomingEvents.com":http://phillytodo.com/profile/Upcomi
 ngEventscom
ATTACH;FMTTYPE="image/jpeg":http://storage.ning.com/topology/rest/1.0/
 file/get/3054957955?profile=original
ATTENDEE;ROLE=REQ-PARTICIPANT;PARTSTAT=ACCEPTED;RSVP=TRUE;CN="Upcoming
 Events.com":http://phillytodo.com/profile/UpcomingEventscom
END:VEVENT
END:VCALENDAR
