BEGIN:VCALENDAR
PRODID:NingEventWidget-v1
VERSION:2.0
METHOD:PUBLISH
BEGIN:VEVENT
UID:4320450:Event:43053
DTSTAMP:20260425T144317Z
SUMMARY:46th Anniversary Urban Affairs Coalition Breakfast
DESCRIPTION:On Friday, November 20th, 2015 from 7:45am - 9:30am, over 
 900 guests - all decision makers in business, government and grassroot
 s communities - will show their support to the mission of the Coalitio
 n as we celebrate and reflect by honoring leaders in the community who
  help inspire us through their dedication and accomplishments. We hope
  that you will join us at the Pennsylvania Convention Center, Grand Ba
 llroom, 1101 Arch Street in Philadelphia, for this year's event themed
  Breaking Barriers, Building Coalitions\n\nFor more information visit 
 http://phillytodo.com/events/46th-anniversary-urban-affairs-coalition-
 breakfast
DTSTART:20151120T124500Z
DTEND:20151120T143000Z
CATEGORIES:breakfast
LOCATION:Pennsylvania Convention Center
WEBSITE:
URL:
CONTACT:18004289000
ORGANIZER;CN="Skai Blue Media":http://phillytodo.com/profile/SkaiBlueM
 edia
ATTACH;FMTTYPE="image/jpeg":http://storage.ning.com/topology/rest/1.0/
 file/get/3054995275?profile=original
ATTENDEE;ROLE=REQ-PARTICIPANT;PARTSTAT=ACCEPTED;RSVP=TRUE;CN="Skai Blu
 e Media":http://phillytodo.com/profile/SkaiBlueMedia
END:VEVENT
END:VCALENDAR
