BEGIN:VCALENDAR
PRODID:NingEventWidget-v1
VERSION:2.0
METHOD:PUBLISH
BEGIN:VEVENT
UID:4320450:Event:1949
DTSTAMP:20260425T160020Z
SUMMARY:IRON
DESCRIPTION:Iron goes behind the walls of a women's prison to find Fay
  and Josie, a mother and her visiting daughter struggling to reconnect
  15 years after a brutal murder. This taut mystery shows us how we con
 demn ourselves to a life sentence of isolation with walls both literal
  and figurative.\n\nFor more information visit http://phillytodo.com/e
 vents/4320450:Event:1949
DTSTART:20101010T000000Z
DTEND:20101010T230000Z
CATEGORIES:live, theater
LOCATION:Studio X
WEBSITE:http://theatreexile.org
URL:http://theatreexile.org
CONTACT:215-218-4022
ORGANIZER;CN="Theatre Exile":http://phillytodo.com/profile/TheatreExil
 e
ATTACH;FMTTYPE="image/jpeg":http://storage.ning.com/topology/rest/1.0/
 file/get/3054950667?profile=original
ATTENDEE;ROLE=REQ-PARTICIPANT;PARTSTAT=ACCEPTED;RSVP=TRUE;CN="Theatre 
 Exile":http://phillytodo.com/profile/TheatreExile
END:VEVENT
END:VCALENDAR
