BEGIN:VCALENDAR
PRODID:NingEventWidget-v1
VERSION:2.0
METHOD:PUBLISH
BEGIN:VEVENT
UID:4320450:Event:168502
DTSTAMP:20260425T123545Z
SUMMARY:3rd Fridays in Souderton
DESCRIPTION:Join the businesses of Souderton for in-person 3rd Fridays
  starting August 20. Fun for the whole family, 3rd Friday will allow v
 isitors to meet friends old and new and features live music, food truc
 ks, a beer garden, winery, art, ice cream, vendors, and retailers with
  extended hours. Home to over 140 businesses, Souderton is the perfect
  summer day trip destination that features eateries, art galleries, th
 eaters, retails stores, community parks, and more.\n\nProceeds benefit
  Souderton Community Development Corporation dba Souderton Connects, a
  501c3 nonprofit corporation.\n\nFor more information visit http://phi
 llytodo.com/events/3rd-fridays-in-souderton
DTSTART:20210820T220000Z
DTEND:20210821T010000Z
CATEGORIES:community, event
LOCATION:Souderton, PA
WEBSITE:https://www.soudertonconnects.com/3rd-fridays
URL:https://www.soudertonconnects.com/3rd-fridays
CONTACT:215-723-6627
ORGANIZER:Souderton Connects
ATTACH;FMTTYPE="image/jpeg":https://storage.ning.com/topology/rest/1.0
 /file/get/9328487287?profile=original
ATTENDEE;ROLE=REQ-PARTICIPANT;PARTSTAT=ACCEPTED;RSVP=TRUE;CN="Bryan Ch
 an":http://phillytodo.com/profile/BryanChan
END:VEVENT
END:VCALENDAR
