BEGIN:VCALENDAR
PRODID:NingEventWidget-v1
VERSION:2.0
METHOD:PUBLISH
BEGIN:VEVENT
UID:4320450:Event:168625
DTSTAMP:20260425T123603Z
SUMMARY:3rd Fridays in Souderton
DESCRIPTION:Where date night meets block party. Join the businesses of
  Souderton for an outdoor in-person event September 17 from 6 to 9 p.m
 ., part of 3rd Fridays in Souderton. Fun for the whole family, 3rd Fri
 days allow visitors to meet friends old and new and enjoy live music, 
 food trucks (including The Flying V, The Little Sicilian, Domino’s P
 izza, and Smoke Rack BBQ), a beer garden featuring Free Will Brewing a
 nd Bishop Estate Winery, art, ice cream, vendors, and retailers with e
 xtended hours.\nThe event takes place in Souderton at the corner of Ma
 in & Chestnut Street and is free to attend with pay-as-you-go activiti
 es throughout. Perseverance Volunteer Fire Co. will be onsite, as well
  as a Kid Zone with bounce house, prize wheels, balloon animals, color
 ing, and more. Visitors can also enjoy $5 movies all day at Broad Thea
 ter.\nProceeds benefit Souderton Community Development Corporation dba
  Souderton Connects, a 501c3 nonprofit corporation.\n\nFor more inform
 ation visit http://phillytodo.com/events/3rd-fridays-in-souderton-1
DTSTART:20210917T220000Z
DTEND:20210918T010000Z
CATEGORIES:community, event
LOCATION:Souderton Connects
WEBSITE:https://www.soudertonconnects.com/3rd-fridays
URL:https://www.soudertonconnects.com/3rd-fridays
CONTACT:2157236627
ORGANIZER:Souderton Connects
ATTACH;FMTTYPE="image/jpeg":https://storage.ning.com/topology/rest/1.0
 /file/get/9527303496?profile=original
ATTENDEE;ROLE=REQ-PARTICIPANT;PARTSTAT=ACCEPTED;RSVP=TRUE;CN="Bryan Ch
 an":http://phillytodo.com/profile/BryanChan
END:VEVENT
END:VCALENDAR
