BEGIN:VCALENDAR
PRODID:NingEventWidget-v1
VERSION:2.0
METHOD:PUBLISH
BEGIN:VEVENT
UID:4320450:Event:38721
DTSTAMP:20260425T142655Z
SUMMARY:3rd Annual WesGold Fellows Founders' Reception
DESCRIPTION:Celebrate the accomplishments of Philadelphia youth in the
  WesGold Fellows internship program during an evening of live entertai
 nment, fine food and inspiring conversation. Join special guest host B
 rittney Shipp of NBC 10 and the West Philadelphia Financial Services I
 nstitution (WPFSI) at this fundraiser which expands upon the organizat
 ions’ mission of providing high school students with an intimate vie
 w and understanding of financial education, college planning, personal
  and career development and community engagement. All proceeds benefit
  the WesGold Fellows internship program.\n\nFor more information visit
  http://phillytodo.com/events/3rd-annual-wesgold-fellows-founders-rece
 ption
DTSTART:20141023T213000Z
DTEND:20141024T000000Z
CATEGORIES:fundraising
LOCATION:Philadelphia Business & Technology Center
WEBSITE:http://FoundersReception.eventbrite.com
URL:http://FoundersReception.eventbrite.com
CONTACT:215.452.0100
ORGANIZER;CN="Skai Blue Media":http://phillytodo.com/profile/SkaiBlueM
 edia
ATTACH;FMTTYPE="image/jpeg":
ATTENDEE;ROLE=REQ-PARTICIPANT;PARTSTAT=ACCEPTED;RSVP=TRUE;CN="Skai Blu
 e Media":http://phillytodo.com/profile/SkaiBlueMedia
END:VEVENT
END:VCALENDAR
