BEGIN:VCALENDAR
PRODID:NingEventWidget-v1
VERSION:2.0
METHOD:PUBLISH
BEGIN:VEVENT
UID:4320450:Event:59113
DTSTAMP:20260425T123540Z
SUMMARY:3rd Annual Night of Lightd
DESCRIPTION:Night of Lights projects historical images and films from 
 the Chestnut Hill Conservancy’s archives through storefront windows 
 and onto exterior walls. Neighboring buildings will be illuminated wit
 h colored lights as well. Night of Lights coincides with Chestnut Hill
  First Fridays, where shops operate on extended hours.\n\nFor more inf
 ormation visit http://phillytodo.com/events/3rd-annual-night-of-lightd
DTSTART:20191004T230000Z
DTEND:20191005T013000Z
CATEGORIES:community, event
LOCATION:Germantown Avenue
WEBSITE:https://chconservancy.org/night-of-lights
URL:https://chconservancy.org/night-of-lights
CONTACT:
ORGANIZER:
ATTACH;FMTTYPE="image/jpeg":
ATTENDEE;ROLE=REQ-PARTICIPANT;PARTSTAT=ACCEPTED;RSVP=TRUE;CN="Bryan Ch
 an":http://phillytodo.com/profile/BryanChan
END:VEVENT
END:VCALENDAR
