BEGIN:VCALENDAR
PRODID:NingEventWidget-v1
VERSION:2.0
METHOD:PUBLISH
BEGIN:VEVENT
UID:4320450:Event:37173
DTSTAMP:20260425T175650Z
SUMMARY:3rd Annual Dog Days of Summer Hot Dog Cook-Off
DESCRIPTION: Twenty of the region’s top restaurants and chefs go gr
 ill-to-grill in the ultimate hot dog competition on Saturday, July 19,
  2014, 1-4pm, under the Headhouse Square Shambles (2nd/Pine). Sample 2
 0 of the most flavorful, tastiest and inventive hot dogs you’ve ever
  experienced. Plus enjoy craft beer (21 and up), live music, amateur t
 oppings contest and other summertime fun. VIP tickets are on sale now 
 for $30 and include special access at Noon, a VIP gift and 20 food/dri
 nk tickets. General admission food/drink tickets on the day of event a
 re 15/$30 or 4/$10. Funds raised benefit the preservation of the histo
 ric Shambles. Call (215) 413-3713, visit www.southstreet.com or follow
  #DogDays14 for info.  \n\nFor more information visit http://phillyto
 do.com/events/3rd-annual-dog-days-of-summer-hot-dog-cook-off
DTSTART:20140719T160000Z
DTEND:20140719T200000Z
CATEGORIES:hot, dog, cook-off
LOCATION:Historic Headhouse Shambles
WEBSITE:http://southstreet.com
URL:http://southstreet.com
CONTACT:(215) 413-3713
ORGANIZER:South Street Headhouse District
ATTACH;FMTTYPE="image/jpeg":http://storage.ning.com/topology/rest/1.0/
 file/get/3054975948?profile=original
ATTENDEE;ROLE=REQ-PARTICIPANT;PARTSTAT=ACCEPTED;RSVP=TRUE;CN="Aversa P
 R & Events":http://phillytodo.com/profile/KoryAversa277
END:VEVENT
END:VCALENDAR
