BEGIN:VCALENDAR
PRODID:NingEventWidget-v1
VERSION:2.0
METHOD:PUBLISH
BEGIN:VEVENT
UID:4320450:Event:48039
DTSTAMP:20260425T142540Z
SUMMARY:3rd Annual Chili Challenge
DESCRIPTION:Taproom on 19th (2400 S. 19th, Philadelphia) hosts the 3rd
  Annual Chili Challenge on Sunday, December 4, 2016 from 5:00pm to 7:0
 0pm. 20 local chefs are back again for this epic South Philadelphia ch
 ili throwdown. The registration fee is $10 for competitors, to sign up
 , please call 267-687-7817 for details. Admission and samples are free
  for guests. All additional food and drink are pay-as-you-go. Guests m
 ust be 21 or older to drink.\n\nFor more information visit http://phil
 lytodo.com/events/3rd-annual-chili-challenge
DTSTART:20161204T220000Z
DTEND:20161205T000000Z
CATEGORIES:cooking, competition
LOCATION:Taproom on 19th
WEBSITE:https://www.facebook.com/events/1678227182507314/
URL:https://www.facebook.com/events/1678227182507314/
CONTACT:267-687-7817
ORGANIZER:Taproom on 19th
ATTACH;FMTTYPE="image/jpeg":http://storage.ning.com/topology/rest/1.0/
 file/get/3055001736?profile=original
ATTENDEE;ROLE=REQ-PARTICIPANT;PARTSTAT=ACCEPTED;RSVP=TRUE;CN="Aversa P
 R & Events":http://phillytodo.com/profile/KoryAversa277
END:VEVENT
END:VCALENDAR
