BEGIN:VCALENDAR
PRODID:NingEventWidget-v1
VERSION:2.0
METHOD:PUBLISH
BEGIN:VEVENT
UID:4320450:Event:43157
DTSTAMP:20260425T144546Z
SUMMARY:38 Special Live at Valley Forge Casino Resort
DESCRIPTION:Valley Forge Casino Resort hosts rock legends 38 Special f
 or a Black Friday Concert on Friday, November 27, 2015 at 8:00pm. 38 S
 pecial will bring four decades of timeless arena-rock to King of Pruss
 ia, including Hold On Loosely, Rockin’ Into the Night, Caught Up in 
 You, Fantasy Girl, If I’d Been the One, Back Where You Belong, Chain
  Lightnin’, Second Chance and more. Tickets are on sale now on Ticke
 tmaster for $35-70. 38 Special is presented as part of Valley Forge Mu
 sic Fair. Upcoming shows include Artie Lange (November 28), Kenny Roge
 rs (December 18) and Third Eye Blind (December 31). Visit www.vfcasino
 .com for more information.\n\nFor more information visit http://philly
 todo.com/events/38-special-live-at-valley-forge-casino-resort
DTSTART:20151128T010000Z
DTEND:20151128T040000Z
CATEGORIES:concert
LOCATION:Valley Forge Casino Resort
WEBSITE:https://vfcasino.com/events/38-special/
URL:https://vfcasino.com/events/38-special/
CONTACT:
ORGANIZER:Valley Forge Casino Resort
ATTACH;FMTTYPE="image/jpeg":http://storage.ning.com/topology/rest/1.0/
 file/get/3054995297?profile=original
ATTENDEE;ROLE=REQ-PARTICIPANT;PARTSTAT=ACCEPTED;RSVP=TRUE;CN="Aversa P
 R & Events":http://phillytodo.com/profile/KoryAversa277
END:VEVENT
END:VCALENDAR
