BEGIN:VCALENDAR
PRODID:NingEventWidget-v1
VERSION:2.0
METHOD:PUBLISH
BEGIN:VEVENT
UID:4320450:Event:29811
DTSTAMP:20260425T173600Z
SUMMARY:35+ Dance Party - Sat. March 23, 2013
DESCRIPTION:Married, single or partnered -- Come out and join our 35+ 
 Dance Party for ALL who Love to Dance!  Mix, mingle and DANCE with ou
 r friendly and inclusive group who are committed to having a great tim
 e!  We meet at a different location in Philadelphia every month! No n
 eed to by shy! Come in with a smile and simply start introducing yours
 elf!  You'll be surprised at how comfortable you feel in no time at a
 ll!\n\nThis event is open to 35+ Dance Party MEMBERS ONLY with a $5 co
 ver charge. Group membership is FREE! Please join us by visiting www.m
 eetup.com/35-danceparty for details.\n\nHope you can join us!\n\nFor m
 ore information visit http://phillytodo.com/events/35-dance-party-sat-
 march-23-2013
DTSTART:20130324T010000Z
DTEND:20130324T060000Z
CATEGORIES:dance
LOCATION:The Loft night club
WEBSITE:http://www.meetup.com/35-danceparty
URL:http://www.meetup.com/35-danceparty
CONTACT:
ORGANIZER;CN="Lorraine Fioravanti":http://phillytodo.com/profile/Lorra
 ineFioravanti
ATTACH;FMTTYPE="image/jpeg":
ATTENDEE;ROLE=REQ-PARTICIPANT;PARTSTAT=ACCEPTED;RSVP=TRUE;CN="Lorraine
  Fioravanti":http://phillytodo.com/profile/LorraineFioravanti
END:VEVENT
END:VCALENDAR
