BEGIN:VCALENDAR
PRODID:NingEventWidget-v1
VERSION:2.0
METHOD:PUBLISH
BEGIN:VEVENT
UID:4320450:Event:28658
DTSTAMP:20260425T163038Z
SUMMARY:35+ Dance Party Nov. 17th - FREE EVENT (+ $5 cover)
DESCRIPTION:Although we usually meet in Center City Philly, I figured 
 I'd mix it up a bit. Our next MEMBER event is on Sat., Nov. 17th in so
 uth Jersey. Membership is free! Please visit my site for details. www
 .meetup.com/35-danceparty I hope you can join us! Lorraine\n\nFor mo
 re information visit http://phillytodo.com/events/35-dance-party-nov-1
 7th-free-event-5-cover
DTSTART:20121118T013000Z
DTEND:20121118T070000Z
CATEGORIES:"35+", dance, party
LOCATION:S. Jersey - become free member for details.
WEBSITE:http://www.meetup.com/35-danceparty
URL:http://www.meetup.com/35-danceparty
CONTACT:
ORGANIZER;CN="Lorraine Fioravanti":http://phillytodo.com/profile/Lorra
 ineFioravanti
ATTACH;FMTTYPE="image/jpeg":http://storage.ning.com/topology/rest/1.0/
 file/get/3054963017?profile=original
ATTENDEE;ROLE=REQ-PARTICIPANT;PARTSTAT=ACCEPTED;RSVP=TRUE;CN="Lorraine
  Fioravanti":http://phillytodo.com/profile/LorraineFioravanti
END:VEVENT
END:VCALENDAR
