BEGIN:VCALENDAR
PRODID:NingEventWidget-v1
VERSION:2.0
METHOD:PUBLISH
BEGIN:VEVENT
UID:4320450:Event:59011
DTSTAMP:20260425T112820Z
SUMMARY:33rd Annual AIDS Walk Philly, \"Be A Lifeline\"
DESCRIPTION:33rd annual AIDS Walk Philly brings 5,000 people together 
 to raise critical money for increasing awareness, fighting stigma, and
  raising funds to support the most vulnerable people living with HIV d
 isease in the greater Philadelphia region. On Sunday, October 20, 2019
 , the 33rd Annual AIDS Walk Philly continues the fight. Produced by AI
 DS Fund, the Walk will be held on scenic Martin Luther King Drive, beg
 inning at the steps of the Philadelphia Museum of Art at 8:30 am. Indi
 viduals can take action in the fight against AIDS by getting sponsors,
  making a donation, and joining thousands of others on October 20 for 
 the AIDS Walk. These efforts will support emergency financial assistan
 ce to people living with HIV disease in the Greater Philadelphia regio
 n and help to provide increased public awareness and comprehensive edu
 cation regarding HIV/AIDS issues. www.aidswalkphilly.org or 215-731-WA
 LK\n\nFor more information visit http://phillytodo.com/events/33rd-ann
 ual-aids-walk-philly-be-a-lifeline
DTSTART:20191020T123000Z
DTEND:20191020T143000Z
CATEGORIES:fundraiser
LOCATION:Philadelphia Museum of Art
WEBSITE:http://www.aidswalkphilly.org
URL:http://www.aidswalkphilly.org
CONTACT:215-731-WALK
ORGANIZER:AIDS Fund
ATTACH;FMTTYPE="image/jpeg":https://storage.ning.com/topology/rest/1.0
 /file/get/3607342337?profile=original
ATTENDEE;ROLE=REQ-PARTICIPANT;PARTSTAT=ACCEPTED;RSVP=TRUE;CN="Cari Fei
 ler Bender":http://phillytodo.com/profile/CariFeilerBender
END:VEVENT
END:VCALENDAR
