BEGIN:VCALENDAR
PRODID:NingEventWidget-v1
VERSION:2.0
METHOD:PUBLISH
BEGIN:VEVENT
UID:4320450:Event:56526
DTSTAMP:20260425T161357Z
SUMMARY:30-minute Relaxation Meditations &amp; Open House with Free Ho
 t Cider
DESCRIPTION:De-stress your holiday with a quick relaxation meditation 
 in the city.\nPop in at any of these two convenient times for a 30-min
  relaxation meditation and leave with a calm and positive mind.\nTaugh
 t by KMC Philadelphia meditation teachers.\n11:00 – 11:30am: 30-minu
 te meditation 11:30am – 1:30pm: Open house with free hot cider 1:30 
 – 2:00pm: 30-minute meditation\n$5/session.\nEveryone is welcome. No
  meditation experience is necessary. \n\nFor more information visit h
 ttp://phillytodo.com/events/30-minute-relaxation-meditations-amp-open-
 house-with-free-hot
DTSTART:20181215T160000Z
DTEND:20181215T190000Z
CATEGORIES:meditation, buddhism, mindfulness, wellness, buddhist
LOCATION:Kadampa Meditation Center Philadelphia
WEBSITE:http://www.meditationinphiladelphia.org/30-minute-relaxation-m
 editations-open-house-with-hot-cider-dec-15/
URL:http://www.meditationinphiladelphia.org/30-minute-relaxation-medit
 ations-open-house-with-hot-cider-dec-15/
CONTACT:267-702-3817
ORGANIZER;CN="Education Program Coordinator":http://phillytodo.com/pro
 file/EducationProgramCoordinator
ATTACH;FMTTYPE="image/jpeg":http://storage.ning.com/topology/rest/1.0/
 file/get/3055016223?profile=original
ATTENDEE;ROLE=REQ-PARTICIPANT;PARTSTAT=ACCEPTED;RSVP=TRUE;CN="Educatio
 n Program Coordinator":http://phillytodo.com/profile/EducationProgramC
 oordinator
END:VEVENT
END:VCALENDAR
