BEGIN:VCALENDAR
PRODID:NingEventWidget-v1
VERSION:2.0
METHOD:PUBLISH
BEGIN:VEVENT
UID:4320450:Event:35621
DTSTAMP:20260425T142903Z
SUMMARY:3 Stories, 3 Nights, 3 Bands: Three Chord Fiction
DESCRIPTION:Just in time for Valentineâ€™s Day, Philadelphiaâ€™s favor
 ite rock and roll theatre companyÂ BRAT ProductionsÂ presents a cabare
 t of tiny tales of love.Â Â Three Chord Fiction: Love BitesÂ pairs tea
 ms of actors with musicians in a rock-theatre cabaret designed to intr
 oduce audiences to the next generation of cabaret performers and rock 
 musicians.Â  Each team has one directive: to tell a musical tale of L-
 O-V-E.Â  Following the cabaret, BRAT welcomes a different guest band f
 or an intimate set each night of the series.Â Performers will include 
 Red 40, Cleo Phatra, Senor Papos and Jota, Len and the Ladies of the C
 ursed Church Theater. Rock and roll bands include The Fancy Balloons (
 February 4), TJ Kong (February 5) and Upholstery (February 6).Â Three 
 Chord Fiction: Love BitesÂ runs Tuesday, February 4, 2014 to Thursday,
  February 6, 2014 atÂ Tin AngelÂ inÂ Old City District,Â 20 South 2nd 
 Street.Â  Performances begin at 8:00pm.Â Â Tickets are ten dollars atÂ
  www.bratproductions.org.Â The showÂ is open to ages 21 and up\n\nFor 
 more information visit http://phillytodo.com/events/3-stories-3-nights
 -3-bands-three-chord-fiction
DTSTART:20140205T010000Z
DTEND:20140207T030000Z
CATEGORIES:theater, concert, rock, music, cabaret
LOCATION:Tin Angel
WEBSITE:http://www.bratproductions.org
URL:http://www.bratproductions.org
CONTACT:
ORGANIZER;CN="Aversa PR & Events":http://phillytodo.com/profile/KoryAv
 ersa277
ATTACH;FMTTYPE="image/jpeg":
ATTENDEE;ROLE=REQ-PARTICIPANT;PARTSTAT=ACCEPTED;RSVP=TRUE;CN="Aversa P
 R & Events":http://phillytodo.com/profile/KoryAversa277
END:VEVENT
END:VCALENDAR
