BEGIN:VCALENDAR
PRODID:NingEventWidget-v1
VERSION:2.0
METHOD:PUBLISH
BEGIN:VEVENT
UID:4320450:Event:59013
DTSTAMP:20260425T124848Z
SUMMARY:2nd Sanctuary
DESCRIPTION:2nd Sanctuary is a new multi-sensory, multi-space experien
 ce from Brian Sanders and his acclaimed JUNK troupe. Located in an aba
 ndoned 19th-century Victorian church, 2nd Sanctuary includes five expe
 riences: Virtual Reality, a live performance, an urban labyrinth, a th
 emed escape room, and a Zombie Disco. 2nd Sanctuary, available only in
  Philadelphia, is a new fall sensation beyond the typical Halloween go
 re and surprises.\n\nFor more information visit http://phillytodo.com/
 events/2nd-sanctuary
DTSTART:20191003T223000Z
DTEND:20191104T043000Z
CATEGORIES:haunted, house
LOCATION:Brian Sanders' JUNK
WEBSITE:https://www.briansandersjunk.com/2ndsanctuary
URL:https://www.briansandersjunk.com/2ndsanctuary
CONTACT:267-406-6080
ORGANIZER:Brian Sanders' JUNK
ATTACH;FMTTYPE="image/jpeg":
ATTENDEE;ROLE=REQ-PARTICIPANT;PARTSTAT=ACCEPTED;RSVP=TRUE;CN="Bryan Ch
 an":http://phillytodo.com/profile/BryanChan
END:VEVENT
END:VCALENDAR
