BEGIN:VCALENDAR
PRODID:NingEventWidget-v1
VERSION:2.0
METHOD:PUBLISH
BEGIN:VEVENT
UID:4320450:Event:21235
DTSTAMP:20260425T130704Z
SUMMARY:2nd Annual Stout & Chowder Festival 2011
DESCRIPTION:Enter the totally nautical world of the Independence Seapo
 rt Museum for an evening of sampling dark/seasonal beers (served at Bu
 rly Beer Stations), delectable soups and stews, and a special dessert 
 “savor session” presented by Betty's Speakeasy , Franklin Fountain
  and Hank's Gourmet Beverages.  Soups & Stews by Brulee Catering.  S
 pend some time relaxing in our lounge or hang outside taking in the am
 azing views with a cigar by John Hay Cigars. In honor of the festival'
 s Burly Beer theme and No-Shave November, a Burly Beard Competition wi
 ll take place to name the official bearded mascot of Stout & Chowder F
 est 2012. The competition will be judged by IFC's Whisker Wars celebri
 ty and Beard Team USA member Myk O'Connor. The winner will receive a s
 weet trophy along with other prizes.  Think you have the burliest bea
 rd?  You can register that evening at check-in.\n \nTickets are $60 
 per person and include access to the Independence Seaport Museum and a
 ll its exhibits prior to the event (before 5:00 pm), unlimited samples
  of beer, soup, desserts and other tasty treats, a keepsake glass mug,
  and access to our official after-party at Triumph Brewing Company in 
 Old City.   Plus, proceeds benefit the museum!\n \nGroups of 6 or m
 ore can cash in on the \"six-pack\" discount and receive $5.00 off eac
 h ticket.  Save $5 from UpcomingEvents.com!  Use discount code \"UCE
 5\" when you are purchasing.  Be sure to invite your co-workers, fami
 ly, & friends - SEE YOU THERE!\n \n\nFor more information visit http:
 //phillytodo.com/events/2nd-annual-stout-chowder-festival-2011
DTSTART:20111119T220000Z
DTEND:20111120T010000Z
CATEGORIES:food
LOCATION:Independence Seaport Museum
WEBSITE:http://www.upcomingevents.com/philadelphia/stout-and-chowder-f
 estival/ptodo/
URL:http://www.upcomingevents.com/philadelphia/stout-and-chowder-festi
 val/ptodo/
CONTACT:8564521116
ORGANIZER;CN="UpcomingEvents.com":http://phillytodo.com/profile/Upcomi
 ngEventscom
ATTACH;FMTTYPE="image/jpeg":
ATTENDEE;ROLE=REQ-PARTICIPANT;PARTSTAT=ACCEPTED;RSVP=TRUE;CN="Upcoming
 Events.com":http://phillytodo.com/profile/UpcomingEventscom
END:VEVENT
END:VCALENDAR
