BEGIN:VCALENDAR
PRODID:NingEventWidget-v1
VERSION:2.0
METHOD:PUBLISH
BEGIN:VEVENT
UID:4320450:Event:31359
DTSTAMP:20260425T142719Z
SUMMARY:2nd Annual East Coast Beard & Mustache Competition
DESCRIPTION:To all of us that love the beauty that is facial hair.  W
 hether you can or can't grow an amazing fu man chu, handlebar mustache
 ,  biker beard, or are simply jealous of us that can, this event is f
 or you! \n  \"The Philadelphia Beard & Mustache Club\" will be prese
 nt trying to show the rest of the country  just how well us Philadelp
 hian's can do it!  I had the pleasure of attending last years event a
 nd it's a blast.  Soooo go groom, shampoo, condition (if needed) blow
  dry your facial hair and come see some of the most amazing examples o
 f male hair growth you will ever have the pleasure of stumbling across
 . \n  Ladies, painted 'stachs & beards, are encouraged. \n\nFor mor
 e information visit http://phillytodo.com/events/2nd-annual-east-coast
 -beard-mustache-competition
DTSTART:20130330T230000Z
DTEND:20130331T060000Z
CATEGORIES:facial, hair, competition
LOCATION:The Trocadero
WEBSITE:https://www.facebook.com/events/464489240257929/
URL:https://www.facebook.com/events/464489240257929/
CONTACT:
ORGANIZER;CN="Adam Rybarczyk @FoodPhreak":http://phillytodo.com/profil
 e/AdamRybarczyk
ATTACH;FMTTYPE="image/jpeg":
ATTENDEE;ROLE=REQ-PARTICIPANT;PARTSTAT=ACCEPTED;RSVP=TRUE;CN="Adam Ryb
 arczyk @FoodPhreak":http://phillytodo.com/profile/AdamRybarczyk
END:VEVENT
END:VCALENDAR
