BEGIN:VCALENDAR
PRODID:NingEventWidget-v1
VERSION:2.0
METHOD:PUBLISH
BEGIN:VEVENT
UID:4320450:Event:1093
DTSTAMP:20260425T125002Z
SUMMARY:\"2nd Annual BUCKS COUNTY IDOL Competition\"
DESCRIPTION:Bucks County Idol Returns To McStew's Irish Sports Pub in 
 Levittown Beginning March 24th. YOU can be The Next BUCKS COUNTY IDOL-
 Sing for Celebrity Judges and Win Great Prizes Including, Trips, Jewel
 ry and More!\n\n\nLast Year McStew's HOSTED The FIRST ever BUCKS COUNT
 Y IDOL competition. Sponsored by WBCB 1490 Radio......And as MANY of y
 ou know.....There's ALOT of talent in the Bucks County area...... But 
 ONLY ONE could win the TITLE.....not only won the title of the first e
 ver BUCKS COUNTY IDOL but also received two nights at The Tropicana Ca
 sino and Resort in Atlantic City with show tickets, $50 to spend in Th
 e Quarter and breakfast each morning; a $200 gift certificate to Getzo
 w Jewelers in Bensalem and a $100 gift certificate to Bernard's Day Sp
 a in Cherry Hill, New Jersey. WELL this year's grand prize will be big
 ger and better WBCB 1490 Promises that!!!\n\nAuditions will be taken p
 lace on Wednesday Nights starting MARCH 24th....\nThe audtion dates WI
 LL BE March 24th, & 31st and APril 7th, 14th, and 21st! THanks to WBCB
  there is a SECOND CHANCE audition as well! So if you don't make it th
 rough ON YOUR FIRST TRY, you are given the chance to Audition again...
 .goto WBCB's website and SIGN UP TODAY www.wbcb1490.com/idol.htm .....
  There you will also find out all the information from the past contes
 t! See the winners and get UPDATES on The Idol Contest!!!!\n\nSo If yo
 u think you've got talent, your freinds tell you \"You Have a GREAT vo
 ice, you sing in the shower,you know someone that can sing, Or YOU KNO
 W YOU've GOTWHAT IT TAKES to become The NEXT Bucks County Idol, then w
 ait NO-LONGER sign up today!!!!!!!!!!! again @ www.wbcb1490.com/idol.h
 tm\n\nYou MUST be 21 to enter with VALID I.D.\n\nThis contest consists
  of CELEBRITY Judges choosen by WBCB Radio, and crowd participation is
  ALSO a BIG part....SO bring your fans, your friends, your mom & dad a
 nd your boss....The MORE noise they make the better OFF you are @ Beco
 ming the NEXT BUCKS COUNTY IDOL!!!!!\n\nFor more information visit htt
 p://phillytodo.com/events/2nd-annual-bucks-county-idol
DTSTART:20100325T000000Z
DTEND:20100422T030000Z
CATEGORIES:"singing competition for great prizes"
LOCATION:McStew;s Irish Sports Pub
WEBSITE:
URL:
CONTACT:215-949-9570
ORGANIZER:WBCB 1490 Radio
ATTACH;FMTTYPE="image/jpeg":http://storage.ning.com/topology/rest/1.0/
 file/get/3054946119?profile=original
ATTENDEE;ROLE=REQ-PARTICIPANT;PARTSTAT=ACCEPTED;RSVP=TRUE;CN="Mike McM
 aster":http://phillytodo.com/profile/MikeMcMaster
END:VEVENT
END:VCALENDAR
