BEGIN:VCALENDAR
PRODID:NingEventWidget-v1
VERSION:2.0
METHOD:PUBLISH
BEGIN:VEVENT
UID:4320450:Event:42213
DTSTAMP:20260425T143305Z
SUMMARY:2nd Annual BRU Fall Fest (at Midtown Village Fall Festival)
DESCRIPTION:BRU Fall Fest returns on Saturday, October 3, 2015, from 1
 2:00pm to 8:00pm, during Midtown Village Fall Festival. Head to the 13
 00 block of Chestnut Street for eight hours of food, beer and live tun
 es. U-Bahn’s stage will feature five bands and DJs, headlined by the
  Levee Drivers. Menu to include Bratwurst, Knackwurst, pulled pork, pr
 etzels and more. Craft drafts pouring outside will include selections 
 from Troegs, New Belgium, Evolution and Victory. Inside, look for 39 c
 rafts pouring. Skip the lines in Midtown Village and hit the self-serv
 e taps. Free admission, 21 to drink and food/drink pay-as-you-go. For 
 more info, visit www.bruphilly.com. 2nd Annual BRU Fall Fest (at Midto
 wn Village Fall Festival)\n\nFor more information visit http://phillyt
 odo.com/events/2nd-annual-bru-fall-fest-at-midtown-village-fall-festiv
 al
DTSTART:20151003T160000Z
DTEND:20151004T000000Z
CATEGORIES:fall, festival
LOCATION:BRU Craft & Wurst
WEBSITE:http://www.bruphilly.com/
URL:http://www.bruphilly.com/
CONTACT:
ORGANIZER;CN="Aversa PR & Events":http://phillytodo.com/profile/KoryAv
 ersa277
ATTACH;FMTTYPE="image/jpeg":http://storage.ning.com/topology/rest/1.0/
 file/get/3054990640?profile=original
ATTENDEE;ROLE=REQ-PARTICIPANT;PARTSTAT=ACCEPTED;RSVP=TRUE;CN="Aversa P
 R & Events":http://phillytodo.com/profile/KoryAversa277
END:VEVENT
END:VCALENDAR
