BEGIN:VCALENDAR
PRODID:NingEventWidget-v1
VERSION:2.0
METHOD:PUBLISH
BEGIN:VEVENT
UID:4320450:Event:25410
DTSTAMP:20260425T173514Z
SUMMARY:2nd Annual Brews & Bowties Event
DESCRIPTION:     Rolling Barrel Events, Mole Street Productions, a
 nd Henry A. Davidsen – Master Tailors & Image Consultants are proud 
 to present BREWS & BOWTIES – Philly’s ONLY craft beer charity even
 t with a dress code!      The second Annual BREWS & BOWTIES event 
 will be held on Thursday, April 5th, from 6:00 pm to 9:00 pm at the Et
 hical Society of Philadelphia (1906 S. Rittenhouse Square) and benefit
 s the Leukemia & Lymphoma Society – Philadelphia Chapter.    Ticke
 ts are just $60 per person and attendees will enjoy live music, specia
 lty beers from Philly’s finest craft breweries, a keepsake glass, ho
 rs d’oeuvres donated by Philly restaurant faves - Del Frisco’s Dou
 ble Eagle Steak House and Farmers Cabinet, the opportunity to win a me
 n’s and women’s Bulova watch duo from Safian & Rudolph Jewelers, a
  lesson on how to tie a bowtie like a proper socialite, and an invitat
 ion to Del Frisco’s exclusive after party!\n\nFor more information v
 isit http://phillytodo.com/events/2nd-annual-brews-bowties-event
DTSTART:20120405T220000Z
DTEND:20120406T010000Z
CATEGORIES:fundraiser
LOCATION:The Ethical Society of Philadelphia
WEBSITE:http://www.brewsandbowties.com
URL:http://www.brewsandbowties.com
CONTACT:
ORGANIZER:Kylie Flett
ATTACH;FMTTYPE="image/jpeg":http://storage.ning.com/topology/rest/1.0/
 file/get/3054958116?profile=original
ATTENDEE;ROLE=REQ-PARTICIPANT;PARTSTAT=ACCEPTED;RSVP=TRUE;CN="Lauren W
 enzel":http://phillytodo.com/profile/JacklinRhoads
END:VEVENT
END:VCALENDAR
