BEGIN:VCALENDAR
PRODID:NingEventWidget-v1
VERSION:2.0
METHOD:PUBLISH
BEGIN:VEVENT
UID:4320450:Event:38088
DTSTAMP:20260425T125147Z
SUMMARY:2nd Annual Bacon and Beer Fest
DESCRIPTION:The 2nd Annual Bacon and Beer Fest returns to Nick’s Roa
 st Beef in Old City (16 S. 2nd Street) on Saturday, October 4, 2014, f
 rom 4:00pm to 8:00pm, with new bacon-centric dishes, early fall beer r
 eleases, an appearance by Piggy Pat and other surprises. Must-try dish
 es include Bloody Mary Ground Bacon Burger, Bacon Crusted Cheesecake, 
 Pumpkin Bacon Chocolate Brownies and more. Free admission, 21 and up t
 o drink, food/drink pay as you go. For info, visit www.nicksroastbeefb
 arandgrille.com or call 215-928-9411.\n\nFor more information visit ht
 tp://phillytodo.com/events/2nd-annual-bacon-and-beer-fest
DTSTART:20141004T200000Z
DTEND:20141005T000000Z
CATEGORIES:food, and, drinks
LOCATION:Nick’s Roast Beef in Old City
WEBSITE:http://www.nicksroastbeefbarandgrille.com
URL:http://www.nicksroastbeefbarandgrille.com
CONTACT:
ORGANIZER;CN="Aversa PR & Events":http://phillytodo.com/profile/KoryAv
 ersa277
ATTACH;FMTTYPE="image/jpeg":http://storage.ning.com/topology/rest/1.0/
 file/get/3054980240?profile=original
ATTENDEE;ROLE=REQ-PARTICIPANT;PARTSTAT=ACCEPTED;RSVP=TRUE;CN="Aversa P
 R & Events":http://phillytodo.com/profile/KoryAversa277
END:VEVENT
END:VCALENDAR
