BEGIN:VCALENDAR
PRODID:NingEventWidget-v1
VERSION:2.0
METHOD:PUBLISH
BEGIN:VEVENT
UID:4320450:Event:49727
DTSTAMP:20260425T205532Z
SUMMARY:28th Annual Manayunk Arts Festival
DESCRIPTION:Manayunk Development Corporation is pleased to announce th
 e 28th Annual Manayunk Arts Festival. This year, we invite you to shar
 e in the tradition of excellence at the tri-state's largest outdoor, j
 uried arts festival. Celebrating 28 years of presenting the best varie
 ty of fine arts and crafts from across the country, nearly 200,000 col
 lectors, buyers, and designers will visit Main Street for this event. 
 We have more than 300 artists that will showcase their work along hist
 oric Main Street in Manayunk in 2017!For the fifth year, we will also 
 once again feature our Emerging Artist Tent! This year we will be feat
 uring even more local talent. Whether they are young talent just getti
 ng into the business or artists who want to begin to make a name for t
 hemselves, you will see their wide range of talents all in one tent on
  the new location at Main and Grape Streets!The Manayunk Arts Festival
  is always a rain or shine event! Come dressed according to the weathe
 r and make sure you stay hydrated!\n\nFor more information visit http:
 //phillytodo.com/events/28th-annual-manayunk-arts-festival
DTSTART:20170624T150000Z
DTEND:20170625T220000Z
CATEGORIES:festival
LOCATION:Manayunk
WEBSITE:http://manayunk.com/news-and-events/events/manayunk-arts-festi
 val.html
URL:http://manayunk.com/news-and-events/events/manayunk-arts-festival.
 html
CONTACT:267-270-3075
ORGANIZER:Manayunk.com
ATTACH;FMTTYPE="image/jpeg":
ATTENDEE;ROLE=REQ-PARTICIPANT;PARTSTAT=ACCEPTED;RSVP=TRUE;CN="Manayunk
  Development Corporation":http://phillytodo.com/profile/ManayunkDevelo
 pmentCorporation
END:VEVENT
END:VCALENDAR
