BEGIN:VCALENDAR
PRODID:NingEventWidget-v1
VERSION:2.0
METHOD:PUBLISH
BEGIN:VEVENT
UID:4320450:Event:40897
DTSTAMP:20260425T130733Z
SUMMARY:26th Annual Manayunk Arts Festival
DESCRIPTION:Head to Manayunk on Saturday, June 20th and Sunday, June 2
 1st for the 26th Annual Manayunk Arts Festival. The Manayunk Developme
 nt Corporation (Manayunk.com) is proud to celebrate 26 years of presen
 ting the best variety of fine arts and crafts from across the county.Â
  \nAs the largest outdoor juried arts festival in the tri-state area, 
 be a visitor amongst a crowd of collectors, buyers, and designers! Wit
 h the street closed to traffic, nearly 300 artists will be lining Main
  Street showcasing their hand-made pieces varying from wood and sculpt
 ures to glass and jewelry. In addition the Emerging Artist Tent is bac
 k for the fourth year in a row!Â  This tent specializes in a wide rang
 e of young and local talent.\nIn addition to the artists, all restaura
 nts and retailers will be open for business! Manayunk is home to the l
 argest alfresco dining scene in the city, so make sure you grab a bite
  to eat as well as take part in some additional shopping at all the sm
 all, local Â businesses.Â \nA rain or shine event, Manayunk is easily 
 accessible by train, bike, bus, or car.\n\nFor more information visit 
 http://phillytodo.com/events/26th-annual-manayunk-arts-festival
DTSTART:20150620T150000Z
DTEND:20150621T220000Z
CATEGORIES:outdoor, arts, "&", crafts
LOCATION:Main Street Manayunk
WEBSITE:http://www.manayunk.com
URL:http://www.manayunk.com
CONTACT:
ORGANIZER;CN="Manayunk Development Corporation":http://phillytodo.com/
 profile/ManayunkDevelopmentCorporation
ATTACH;FMTTYPE="image/jpeg":http://storage.ning.com/topology/rest/1.0/
 file/get/3054990063?profile=original
ATTENDEE;ROLE=REQ-PARTICIPANT;PARTSTAT=ACCEPTED;RSVP=TRUE;CN="Manayunk
  Development Corporation":http://phillytodo.com/profile/ManayunkDevelo
 pmentCorporation
END:VEVENT
END:VCALENDAR
