BEGIN:VCALENDAR
PRODID:NingEventWidget-v1
VERSION:2.0
METHOD:PUBLISH
BEGIN:VEVENT
UID:4320450:Event:55041
DTSTAMP:20260425T161444Z
SUMMARY:26th Annual Haddonfield Crafts and Fine Art Festival
DESCRIPTION:The Haddonfield Crafts and Fine Art Festival is one of the
  area’s premier events, attracting crowds of more than 100,000 peopl
 e. More than 250 artisans will exhibit a wide range of arts and crafts
 , including ceramics, glass, jewelry, wood, fiber, metal, paper, drawi
 ngs, paintings, photography, and wearable art. \n\nFor more informati
 on visit http://phillytodo.com/events/26th-annual-haddonfield-crafts-a
 nd-fine-art-festival
DTSTART:20180707T150000Z
DTEND:20180708T210000Z
CATEGORIES:festival
LOCATION:Kings Highway &amp; Tanner St in Haddonfield, NJ
WEBSITE:https://downtownhaddonfield.com/events-entries/2018-arts-craft
 s-festival/
URL:https://downtownhaddonfield.com/events-entries/2018-arts-crafts-fe
 stival/
CONTACT:
ORGANIZER:
ATTACH;FMTTYPE="image/jpeg":http://storage.ning.com/topology/rest/1.0/
 file/get/3055011623?profile=original
ATTENDEE;ROLE=REQ-PARTICIPANT;PARTSTAT=ACCEPTED;RSVP=TRUE;CN="Paige Wo
 lf":http://phillytodo.com/profile/PaigeWolf
END:VEVENT
END:VCALENDAR
