BEGIN:VCALENDAR
PRODID:NingEventWidget-v1
VERSION:2.0
METHOD:PUBLISH
BEGIN:VEVENT
UID:4320450:Event:27619
DTSTAMP:20260425T125818Z
SUMMARY:26th Annual AIDS Walk Philly & AIDS Run Philly
DESCRIPTION:Every 9½ minutes someone becomes infected with HIV in the
  U.S. One out of five people infected with HIV in the U.S. don’t kno
 w it. Walk to raise vital funds for those living with HIV and AIDS in 
 our region.  Come join the fight on Sunday, October 21, 2012, for the
  26th Annual AIDS Walk Philly presented by Merck.  Walk beginning at 
 9 am and run beginning at 8 am at the Art Museum Steps.  AIDS Run Phi
 lly is a USATF-certified 5K route on Martin   Luther King Drive.  Th
 e money raised at AIDS Walk Philly goes toward HIV prevention educatio
 n, public awareness, and HIV care services right here in the Greater P
 hiladelphia region.  Register online and get additional information a
 t aidswalkphilly.org or call 215-731-WALK.\n\nFor more information vis
 it http://phillytodo.com/events/26th-annual-aids-walk-philly-aids-run-
 philly
DTSTART:20120730T220000Z
DTEND:20120730T230000Z
CATEGORIES:fundraiser, aids, awareness, "&", education
LOCATION:Philadelphia Museum of Art
WEBSITE:http://www.aidswalkphilly.org
URL:http://www.aidswalkphilly.org
CONTACT:215-731-9255
ORGANIZER;CN="Cari Feiler Bender":http://phillytodo.com/profile/CariFe
 ilerBender
ATTACH;FMTTYPE="image/jpeg":http://storage.ning.com/topology/rest/1.0/
 file/get/3054958531?profile=original
ATTENDEE;ROLE=REQ-PARTICIPANT;PARTSTAT=ACCEPTED;RSVP=TRUE;CN="Cari Fei
 ler Bender":http://phillytodo.com/profile/CariFeilerBender
END:VEVENT
END:VCALENDAR
