BEGIN:VCALENDAR
PRODID:NingEventWidget-v1
VERSION:2.0
METHOD:PUBLISH
BEGIN:VEVENT
UID:4320450:Event:14003
DTSTAMP:20260425T161820Z
SUMMARY:25th Aunnual AIDS Walk Philly & AIDS Run Philly
DESCRIPTION:Every 9½ minutes someone becomes infected with HIV in the
  U.S.  One out of five people infected with HIV in the U.S. don’t k
 now it. Walk to raise vital funds for those living with HIV and AIDS i
 n our region.  Come join the fight on Sunday, October 16, 2011, for t
 he 25th Annual AIDS Walk Philly presented by Merck.  Walk beginning a
 t 9 am and run beginning at 8 am at the Art Museum Steps.  AIDS Run P
 hilly is a USATF-certified 5K route on Martin Luther King Drive.  The
  money raised at AIDS Walk Philly goes toward HIV prevention education
 , public awareness, and HIV care services right here in the greater Ph
 iladelphia region.  Register online and get additional information at
  aidswalkphilly.org, call 215-731-WALK, or stop by a regional Walgreen
 s to get your sponsor form.  Thirty thousand of our friends, family, 
 and neighbors live with HIV in our region.  AIDS Walk Philly is also 
 sponsored by PECO, An Exelon Company; NBC10; Frito-Lay; PGN; and Fairm
 ount Park.  On-line registration is easy – and walkers can get thei
 r friends to pledge on their personalized page.  Sign up at aidswalkp
 hilly.org. \n\nFor more information visit http://phillytodo.com/event
 s/25th-aunnual-aids-walk-philly
DTSTART:20111016T120000Z
DTEND:20111016T210000Z
CATEGORIES:fundraiser
LOCATION:Philadelphia Art Museum Steps
WEBSITE:http://www.aidsfundphilly.org
URL:http://www.aidsfundphilly.org
CONTACT:215-731-9255
ORGANIZER;CN="Cari Feiler Bender":http://phillytodo.com/profile/CariFe
 ilerBender
ATTACH;FMTTYPE="image/jpeg":http://storage.ning.com/topology/rest/1.0/
 file/get/3054957732?profile=original
ATTENDEE;ROLE=REQ-PARTICIPANT;PARTSTAT=ACCEPTED;RSVP=TRUE;CN="Cari Fei
 ler Bender":http://phillytodo.com/profile/CariFeilerBender
END:VEVENT
END:VCALENDAR
