BEGIN:VCALENDAR
PRODID:NingEventWidget-v1
VERSION:2.0
METHOD:PUBLISH
BEGIN:VEVENT
UID:4320450:Event:49918
DTSTAMP:20260425T144836Z
SUMMARY:25th ANNUAL HADDONFIELD CRAFTS AND FINE ART FESTIVAL
DESCRIPTION:The Haddonfield Crafts and Fine Art Festival is one of the
  area’s premier events, attracting crowds of more than 100,000 peopl
 e. Artisans will exhibit a wide range of arts and crafts, including ce
 ramics, glass, jewelry, wood, fiber, metal, paper, drawings, paintings
 , photography, and wearable art. \n\nFor more information visit http:
 //phillytodo.com/events/25th-annual-haddonfield-crafts-and-fine-art-fe
 stival
DTSTART:20170708T150000Z
DTEND:20170709T210000Z
CATEGORIES:arts, festival
LOCATION:Kings Highway & Tanner St in Haddonfield, NJ
WEBSITE:http://www.downtownhaddonfield.com
URL:http://www.downtownhaddonfield.com
CONTACT:
ORGANIZER:Haddonfield
ATTACH;FMTTYPE="image/jpeg":http://storage.ning.com/topology/rest/1.0/
 file/get/3055003623?profile=original
ATTENDEE;ROLE=REQ-PARTICIPANT;PARTSTAT=ACCEPTED;RSVP=TRUE;CN="Paige Wo
 lf":http://phillytodo.com/profile/PaigeWolf
END:VEVENT
END:VCALENDAR
