BEGIN:VCALENDAR
PRODID:NingEventWidget-v1
VERSION:2.0
METHOD:PUBLISH
BEGIN:VEVENT
UID:4320450:Event:25913
DTSTAMP:20260425T163243Z
SUMMARY:24 Hours of LeMONS is \"where Halloween meets gasoline\" and N
 ew Jersey Motorsports Park
DESCRIPTION:Bad Drivers. Terrible Cars. Racing at its Best. 24 Hours o
 f LeMONS is \"where Halloween meets gasoline\" and New Jersey Motorspo
 rts Park is the only site for this one-of-a-kind event in the greater 
 Philadelphia metro region! As a spectator things you'll probably see: 
 a hearse jockeying for position with a car that's covered in fur and l
 ooks like a skunk.  Things you won't see: a bunch of overpaid prima d
 onnas who just turn left.  Stuff you should know: Tailgating, the cha
 rcoal and burger kind - not the driving kind, is encouraged. Oh -- and
  costumes for spectators are highly encouraged! Tickets only $20 per d
 ay.  Kids 12 and under FREE! Do you want to race for a mere $500 per 
 car? Visit 24hoursoflemons dot com. Don't miss it!\n\nFor more informa
 tion visit http://phillytodo.com/events/24-hours-of-lemons-is-where-ha
 lloween-meets-gasoline-and-new
DTSTART:20120414T140000Z
DTEND:20120415T193000Z
CATEGORIES:sports, outdoor, family, singles, racers
LOCATION:New Jersey Motorsports Park
WEBSITE:http://store.njmp.com/store/category/9/201/24-HOURS-OF-LEMON/
URL:http://store.njmp.com/store/category/9/201/24-HOURS-OF-LEMON/
CONTACT:
ORGANIZER;CN="New Jersey Motorsports Park":http://phillytodo.com/profi
 le/NewJerseyMotorsportsPark
ATTACH;FMTTYPE="image/jpeg":http://storage.ning.com/topology/rest/1.0/
 file/get/3054958247?profile=original
ATTENDEE;ROLE=REQ-PARTICIPANT;PARTSTAT=ACCEPTED;RSVP=TRUE;CN="New Jers
 ey Motorsports Park":http://phillytodo.com/profile/NewJerseyMotorsport
 sPark
END:VEVENT
END:VCALENDAR
