BEGIN:VCALENDAR
PRODID:NingEventWidget-v1
VERSION:2.0
METHOD:PUBLISH
BEGIN:VEVENT
UID:4320450:Event:44503
DTSTAMP:20260425T131126Z
SUMMARY:22nd Annual Hair O' The Dog: Voted Philly's Best!
DESCRIPTION:\n\n#HOD2016-Saturday, January 16th from Hair O' The Dog o
 n Vimeo.\nSugarHouse Casino Presents: The 22nd Annual Hair O' The Dog 
 Deuces Are Wild! Get ready for a wild evening filled with top-shelf li
 bations, gourmet fare, extravagant decor and top-notch entertainment! 
 A portion of the proceeds will benefit THON- Penn State's Dance Marath
 on that supports the fight against pediatric cancer.  Hair O' The Dog 
 2016 will feature musical performances by Go Go Gadjet, DJ Jason Weiss
 , The Business, DJ Mike Galioto, and Sabeel Chohan! Whether you decide
  to unleash in the Jungleland Main Ballroom, indulge in the Flashback 
 Fantasy VIP Lounge, or if you want to let loose in the super-exclusive
  DOG HOUSE, #HOD2016 will be bursting with party-goers from the moment
  the doors open at the hotly-anticipated Bottle Service and press prev
 iew until the Bark O’ Dawn at Voyeur, the official HOD after-party. 
 Hair O’ The Dog is the most talked about, sought after extravaganza 
 in Philly each year!  We guarantee you’ll have one hell o’ a night
  at Hair O’ The Dog-Philly’s Most Glamorous Bash!\n\nFor more info
 rmation visit http://phillytodo.com/events/22nd-annual-hair-o-the-dog-
 voted-philly-s-best
DTSTART:20160117T020000Z
DTEND:20160117T060000Z
CATEGORIES:fundraiser
LOCATION:Crytal Tea Room
WEBSITE:http://www.hairothedog.com/
URL:http://www.hairothedog.com/
CONTACT:
ORGANIZER;CN="Buffy Harakidas":http://phillytodo.com/profile/BuffyHara
 kidas
ATTACH;FMTTYPE="image/jpeg":
ATTENDEE;ROLE=REQ-PARTICIPANT;PARTSTAT=ACCEPTED;RSVP=TRUE;CN="Buffy Ha
 rakidas":http://phillytodo.com/profile/BuffyHarakidas
END:VEVENT
END:VCALENDAR
