BEGIN:VCALENDAR
PRODID:NingEventWidget-v1
VERSION:2.0
METHOD:PUBLISH
BEGIN:VEVENT
UID:4320450:Event:54960
DTSTAMP:20260425T161818Z
SUMMARY:21st Annual Fur Ball
DESCRIPTION:The Morris Animal Refuge, America’s First Animal Shelte
 r, is pleased to announce that the21st Annual Fur Ball will be held 
 on Saturday, March 10th, from 7pm – midnight. The yearly celebratio
 n is the refuge’s single largest fundraiser and goes towards helping
  the homeless, abandoned and unwanted pets of the Greater Philadelphia
  region. This year’s theme, Havana Nights, will transform the Sime
 one Foundation Auto Museum into a taste of Cuba – complete with a m
 ojito bar from Bluebird Distilling, 50’s cars, and live music.\nEmce
 ed by Steve Morrison of WMMR’s Preston and Steve, the event will r
 ecognize outstanding members of the Morris Animal Refuge community. G
 overnor Ed Rendell will receive the 2018 Elizabeth Morris Award and
  Animal Planet will be receiving this year’sGrace Labouchere Award
  for Corporate Humane Awareness. Attendees will also have the opportu
 nity to meet adoptable puppies at the event.\n\nTickets begin at $140
  per person for general admission and includes 4 hour open bar, delici
 ous Cuban fare from 12th Street Catering, live music and dancing all
  night long. Those looking for an extra hour of fun can enjoy all this
  and more – with the $160 VIP ticket. For more information or to pur
 chase tickets to The Fur Ball, please visitwww.phillyfurball.com. To l
 earn more about Morris, please visitwww.morrisanimalrefuge.org.\n\n\nF
 or more information visit http://phillytodo.com/events/21st-annual-fur
 -ball
DTSTART:20180311T000000Z
DTEND:20180311T050000Z
CATEGORIES:fundraiser
LOCATION:Simeone Foundation Auto Museum
WEBSITE:http://phillyfurball.com
URL:http://phillyfurball.com
CONTACT:
ORGANIZER:Morris Animal Refuge
ATTACH;FMTTYPE="image/jpeg":
ATTENDEE;ROLE=REQ-PARTICIPANT;PARTSTAT=ACCEPTED;RSVP=TRUE;CN="Punch Me
 dia":http://phillytodo.com/profile/PunchMedia
END:VEVENT
END:VCALENDAR
