BEGIN:VCALENDAR
PRODID:NingEventWidget-v1
VERSION:2.0
METHOD:PUBLISH
BEGIN:VEVENT
UID:4320450:Event:60224
DTSTAMP:20260425T112906Z
SUMMARY:21st Annual Black-Tie GayBINGO
DESCRIPTION:A little bit of glam, a lot of fabulous, and a whirlwind o
 f fun await guests at the 21st Annual Black-Tie GayBINGO, where all th
 e funds raised go to HIV/AIDS emergency financial assistance and HIV a
 wareness efforts right here in the Greater Philadelphia region. Enjoy 
 cocktails and a silent auction, dinner, and entertainment from the Bin
 go Verifying Divas (BVDs), who dress in glamorous drag to entertain th
 e crowd while raising funds for HIV/AIDS. Black-Tie GayBINGO is one of
  Philadelphia’s most creative and offbeat annual events. Tickets are
  $175 per person and are available by calling 215-731-9255 or visit ai
 dsfundphilly.org.\n\nFor more information visit http://phillytodo.com/
 events/21st-annual-black-tie-gaybingo
DTSTART:20200321T223000Z
DTEND:20200322T040000Z
CATEGORIES:fundraiser
LOCATION:Loews Philadelphia Hotel
WEBSITE:http://aidsfundphilly.org
URL:http://aidsfundphilly.org
CONTACT:215-731-9255
ORGANIZER:AIDS Fund Philly
ATTACH;FMTTYPE="image/jpeg":https://storage.ning.com/topology/rest/1.0
 /file/get/4007716730?profile=original
ATTENDEE;ROLE=REQ-PARTICIPANT;PARTSTAT=ACCEPTED;RSVP=TRUE;CN="Cari Fei
 ler Bender":http://phillytodo.com/profile/CariFeilerBender
END:VEVENT
END:VCALENDAR
