BEGIN:VCALENDAR
PRODID:NingEventWidget-v1
VERSION:2.0
METHOD:PUBLISH
BEGIN:VEVENT
UID:4320450:Event:36638
DTSTAMP:20260425T130709Z
SUMMARY:215MMA present Official Bellator 118 After-Party
DESCRIPTION:Following Bellator 118 at Revel Casino Hotel, 215MMA is ho
 sting the official Bellator after party at The Irish Pub, the “place
  to be” after all Atlantic City prizefights.The Official Bellator af
 ter party is also the Grand Opening celebration of the 215MMA.com onli
 ne store, one of the top Mixed Martial Arts clothing brands on the Eas
 t Coast, selling t-shirts, hats and hoodie sweatshirts.215MMA CEO Jimm
 y Binns Jr. is also CEO of Binns Management, one of the top up-and-com
 ing MMA managers. All seven Binns Management fighters participating in
  Bellator 118 will be present at the after party for photographs and a
 utographs, including: Bellator 170 pound tournament contender and co-m
 ain event fighter Sammy Oropeza, Bellator 205 pound tournament contend
 er Mike Mucitelli, Anthony “Cheesesteak” Morrison, Jesus Martinez,
  Jay Haas, Gemiyale Adkins and Sidney Outlaw. During the after party, 
 there will be drink specials and gear giveaways, including 215MMA and 
 Bellator t-shirts and autographed gloves.\n\nIf you would like more in
 formation about 215MMA or the Official Bellator 118 After Party, or to
  schedule an interview, please contact Jimmy Binns Jr.\n\nFor more inf
 ormation visit http://phillytodo.com/events/215mma-present-official-be
 llator-118-after-party
DTSTART:20140503T030000Z
DTEND:20140503T080000Z
CATEGORIES:after-party
LOCATION:The Irish Pub
WEBSITE:https://www.google.com/maps/place/The+Irish+Pub/@39.357705,-74
 .42612,17z/data=!3m1!4b1!4m2!3m1!1s0x89c0ee3e4abbc0ad:0x64966938087672
 e1?hl=en
URL:https://www.google.com/maps/place/The+Irish+Pub/@39.357705,-74.426
 12,17z/data=!3m1!4b1!4m2!3m1!1s0x89c0ee3e4abbc0ad:0x64966938087672e1?h
 l=en
CONTACT:215-528-7480
ORGANIZER;CN=215MMA:http://phillytodo.com/profile/215MMA
ATTACH;FMTTYPE="image/jpeg":http://storage.ning.com/topology/rest/1.0/
 file/get/3054974125?profile=original
ATTENDEE;ROLE=REQ-PARTICIPANT;PARTSTAT=ACCEPTED;RSVP=TRUE;CN=215MMA:ht
 tp://phillytodo.com/profile/215MMA
END:VEVENT
END:VCALENDAR
