BEGIN:VCALENDAR
PRODID:NingEventWidget-v1
VERSION:2.0
METHOD:PUBLISH
BEGIN:VEVENT
UID:4320450:Event:56268
DTSTAMP:20260425T124842Z
SUMMARY:2018 AIDS Walk Philly
DESCRIPTION:Produced by AIDS Fund, the Walk will be held on scenic Mar
 tin Luther King Drive. The Walk will begin at the steps of the Philade
 lphia Museum of Art at 8:30 am. Philadelphians can support their neigh
 bors and loved ones by participating in the AIDS Walk, which will brin
 g together 10,000 people to raise public awareness and funds for those
  living with HIV/AIDS in our community. Individuals can take action in
  the fight against AIDS by getting sponsors, making a donation, and jo
 ining thousands of others on October 21 for the AIDS Walk. These effor
 ts will support emergency financial assistance to people living with H
 IV disease in the Greater Philadelphia region, and help to provide edu
 cation and increased public awareness of HIV/AIDS issues.\n\nFor more 
 information visit http://phillytodo.com/events/2018-aids-walk-philly
DTSTART:20181021T123000Z
DTEND:20181022T023000Z
CATEGORIES:fundraiser
LOCATION:Philadelphia Museum of Art
WEBSITE:http://aidswalkphilly.org
URL:http://aidswalkphilly.org
CONTACT:
ORGANIZER:AIDS Fund
ATTACH;FMTTYPE="image/jpeg":http://storage.ning.com/topology/rest/1.0/
 file/get/3055015076?profile=original
ATTENDEE;ROLE=REQ-PARTICIPANT;PARTSTAT=ACCEPTED;RSVP=TRUE;CN="Cari Fei
 ler Bender":http://phillytodo.com/profile/CariFeilerBender
END:VEVENT
END:VCALENDAR
