BEGIN:VCALENDAR
PRODID:NingEventWidget-v1
VERSION:2.0
METHOD:PUBLISH
BEGIN:VEVENT
UID:4320450:Event:45291
DTSTAMP:20260425T191624Z
SUMMARY:2016 Chestnut Hill Home & Garden Festival
DESCRIPTION:This year marks the 20th anniversary of the annual Chestn
 ut Hill Home & Garden Festival! Experience historic Germantown Aven
 ue as it transforms into a bustling marketplace with over 150 vendor
 s and countless alluring displays. Live gardening demonstrations a
 nd musical performances are guaranteed to captivate festival-goers al
 ong the avenue. Kid-friendly activities, such as arts & crafts and a
 musement rides, will keep children entertained throughout the day. Th
 ose in search of a culinary experience have the opportunity to sample
  some of Chestnut Hill's most beloved restaurants.\n\nFor more infor
 mation visit http://phillytodo.com/events/2016-chestnut-hill-home-gard
 en-festival
DTSTART:20160501T150000Z
DTEND:20160501T210000Z
CATEGORIES:festival, outdoor
LOCATION:Germantown Ave in Chestnut Hill
WEBSITE:http://chestnuthillpa.com/events/home-garden-festival-2/
URL:http://chestnuthillpa.com/events/home-garden-festival-2/
CONTACT:(215) 247-6696
ORGANIZER:
ATTACH;FMTTYPE="image/jpeg":http://storage.ning.com/topology/rest/1.0/
 file/get/3054996081?profile=original
ATTENDEE;ROLE=REQ-PARTICIPANT;PARTSTAT=ACCEPTED;RSVP=TRUE;CN="Bryan Ch
 an":http://phillytodo.com/profile/BryanChan
END:VEVENT
END:VCALENDAR
