BEGIN:VCALENDAR
PRODID:NingEventWidget-v1
VERSION:2.0
METHOD:PUBLISH
BEGIN:VEVENT
UID:4320450:Event:40578
DTSTAMP:20260425T131312Z
SUMMARY:2015 Wall Ball hosted by the City of Philadelphia Mural Arts P
 rogram
DESCRIPTION:The City of Philadelphia Mural Arts Program is throwing it
 s 11th annual Wall Ball to celebrate its work to beautify Philadelphia
 ’s neighborhoods and to cheers its 2015 honorees, Philadelphia Eagle
 ’s linebacker and Make the World Better found, Connor Barwin and Mur
 al Art’s Board member Tony Schneider as well as street artist Swoon!
 \nThis cultural soiree will have guests in awe with a one night only a
 ppearance by Secret Walls to do a tag-team battle Philly vs. NYC to cr
 eate one-of-a-kind urban art that will be auctioned off at the end of 
 the night by host, MC Elixir. With musical performances by the New Sou
 nd Brass Band and the Scratch DJ Academy and a chance to snag some VIP
  experiences with the Philadelphia Eagles, Tonight Show with Jimmy Fal
 lon or Roots picnic, as well as other cultural and culinary offerings 
 that the auction, the night is sure to be one to remember!\nThis year,
  we aren’t just inviting you to Wall Ball. We’re inviting you to p
 lant the seeds of change and help us grow – to transform our ideas i
 nto something alive and beautiful.\nSo join us for a fantastic night o
 f cocktails, delicious food, auctions and live entertainment, and toge
 ther we can make great things happen!\n\nFor more information visit ht
 tp://phillytodo.com/events/2015-wall-ball-hosted-by-the-city-of-philad
 elphia-mural-arts
DTSTART:20150521T230000Z
DTEND:20150522T020000Z
CATEGORIES:soiree, fundraiser
LOCATION:The Electric Factory
WEBSITE:http://muralarts.org/wallball2015
URL:http://muralarts.org/wallball2015
CONTACT:215.685.0759
ORGANIZER:City of Philadelphia Mural Arts Program
ATTACH;FMTTYPE="image/jpeg":http://storage.ning.com/topology/rest/1.0/
 file/get/3054986919?profile=original
ATTENDEE;ROLE=REQ-PARTICIPANT;PARTSTAT=ACCEPTED;RSVP=TRUE;CN=CashmanAs
 soc:http://phillytodo.com/profile/CashmanAssoc
END:VEVENT
END:VCALENDAR
