BEGIN:VCALENDAR
PRODID:NingEventWidget-v1
VERSION:2.0
METHOD:PUBLISH
BEGIN:VEVENT
UID:4320450:Event:43138
DTSTAMP:20260425T155045Z
SUMMARY:2015 BARocker Battle
DESCRIPTION:Hard Rock Philadelphia is hosting its annual BARocker even
 t, shining the spotlight on the brand’s talented bartenders from the
  North America East region for a chance to be named Hard Rock’s best
  BARocker of 2015. This competition will be judged by a panel of indus
 try experts and local celebrities, who will decide which bartender wil
 l go to the next round and compete in the world championships in Orlan
 do, Fl. Enjoy tastings, a complimentary buffet and happy hour specials
  throughout the night.\n\nFor more information visit http://phillytodo
 .com/events/2015-barocker-battle
DTSTART:20151116T230000Z
DTEND:20151117T020000Z
CATEGORIES:special, event
LOCATION:Hard Rock Cafe Philadelphia
WEBSITE:http://www.hardrock.com/cafes/philadelphia/
URL:http://www.hardrock.com/cafes/philadelphia/
CONTACT:215-627-1060
ORGANIZER;CN=CashmanAssoc:http://phillytodo.com/profile/CashmanAssoc
ATTACH;FMTTYPE="image/jpeg":http://storage.ning.com/topology/rest/1.0/
 file/get/3054991267?profile=original
ATTENDEE;ROLE=REQ-PARTICIPANT;PARTSTAT=ACCEPTED;RSVP=TRUE;CN=CashmanAs
 soc:http://phillytodo.com/profile/CashmanAssoc
END:VEVENT
END:VCALENDAR
