BEGIN:VCALENDAR
PRODID:NingEventWidget-v1
VERSION:2.0
METHOD:PUBLISH
BEGIN:VEVENT
UID:4320450:Event:38289
DTSTAMP:20260425T125030Z
SUMMARY:2014 Pennsylvania Ballet Nutcracker Market
DESCRIPTION:Bring your holiday shopping list and discover a collection
  of creative and hand-crafted gifts at the Pennsylvania Ballet’s Nut
 cracker Market. Presented in partnership with Kimmel Center, Inc., thi
 s festive marketplace opens to the public for just four days—Decembe
 r 11–14.\nA fundraiser for the Pennsylvania Ballet and The School of
  the Pennsylvania Ballet, the Nutcracker Market features over 70 exhib
 itors spread throughout three levels of the Kimmel Center offering a v
 ariety of gifts and hand-crafted works such as ornaments, jewelry, pho
 tography, and dance-inspired pieces. In addition,the PA Ballet Shop of
 fers one-of-a-kind gifts, including autographed items.\nEnjoy daily fr
 ee events, including visits from Nutcracker characters,  “Behind th
 e Scenes of the Nutcracker,” giveaways, arts and crafts activities, 
 local performing groups, Land of Sweets candy shop, and specialty food
  and drink by The Garces Group.\n\nFor more information visit http://p
 hillytodo.com/events/2014-pennsylvania-ballet-nutcracker-market
DTSTART:20141211T150000Z
DTEND:20141214T220000Z
CATEGORIES:fundraiser
LOCATION:Kimmel Center
WEBSITE:http://www.paballet.org/nutmarket
URL:http://www.paballet.org/nutmarket
CONTACT:215-320-7540
ORGANIZER;CN="Bryan Chan":http://phillytodo.com/profile/BryanChan
ATTACH;FMTTYPE="image/jpeg":http://storage.ning.com/topology/rest/1.0/
 file/get/3054980036?profile=original
ATTENDEE;ROLE=REQ-PARTICIPANT;PARTSTAT=ACCEPTED;RSVP=TRUE;CN="Bryan Ch
 an":http://phillytodo.com/profile/BryanChan
END:VEVENT
END:VCALENDAR
