BEGIN:VCALENDAR
PRODID:NingEventWidget-v1
VERSION:2.0
METHOD:PUBLISH
BEGIN:VEVENT
UID:4320450:Event:35139
DTSTAMP:20260425T172228Z
SUMMARY:2013 NAMIC Philadelphia Masquerade Gala
DESCRIPTION:The Philadelphia chapter of the National Association for M
 ulti-ethnicity in Communications (NAMIC) will host a Masquerade Gala f
 or their annual end-of-year celebration. NAMIC Philadelphia brings tog
 ether professionals and leaders in cable, radio and TV broadcast, film
 , digital media and print to promote diversity and inclusion in the co
 mmunications industry. The Masquerade Gala is a culminating celebratio
 n of NAMIC Philadelphia's accomplishments throughout 2013 including th
 e 20th anniversary, breaking new grounds for both the chapter and the 
 national organization with innovative events, media coverage, stellar 
 execution and the ‘You Want To Be In’ campaign. NAMIC Philadelphia
  is inviting sponsors, members and supporters to don a mask and toast 
 to a fantastic year as a thank you for their contribution to the chapt
 er's success!\n\nFor more information visit http://phillytodo.com/even
 ts/2013-namic-philadelphia-masquerade-gala
DTSTART:20131212T233000Z
DTEND:20131213T040000Z
CATEGORIES:gala
LOCATION:The Pyramid Club
WEBSITE:http://namicphiladelphia.com/
URL:http://namicphiladelphia.com/
CONTACT:
ORGANIZER;CN="Skai Blue Media":http://phillytodo.com/profile/SkaiBlueM
 edia
ATTACH;FMTTYPE="image/jpeg":
ATTENDEE;ROLE=REQ-PARTICIPANT;PARTSTAT=ACCEPTED;RSVP=TRUE;CN="Skai Blu
 e Media":http://phillytodo.com/profile/SkaiBlueMedia
END:VEVENT
END:VCALENDAR
