BEGIN:VCALENDAR
PRODID:NingEventWidget-v1
VERSION:2.0
METHOD:PUBLISH
BEGIN:VEVENT
UID:4320450:Event:23911
DTSTAMP:20260425T125424Z
SUMMARY:2012 WOMEN’S WAY Ernesta Drinker Ballard Book Prize
DESCRIPTION:Awards Program & Discussion with Rebecca Traister, Author 
 at 6 pm\nCelebration Reception & Book Signing at 7 pm\nThis event is F
 REE, thanks to the generosity of the Hamilton Family Foundation\n\nFor
  more information visit http://phillytodo.com/events/2012-women-s-way-
 ernesta-drinker-ballard-book-prize
DTSTART:20120315T213000Z
DTEND:20120316T000000Z
CATEGORIES:book, reading
LOCATION:Moore College of Art & Design
WEBSITE:
URL:
CONTACT:215.985.3322
ORGANIZER;CN="Cari Feiler Bender":http://phillytodo.com/profile/CariFe
 ilerBender
ATTACH;FMTTYPE="image/jpeg":
ATTENDEE;ROLE=REQ-PARTICIPANT;PARTSTAT=ACCEPTED;RSVP=TRUE;CN="Cari Fei
 ler Bender":http://phillytodo.com/profile/CariFeilerBender
END:VEVENT
END:VCALENDAR
