BEGIN:VCALENDAR
PRODID:NingEventWidget-v1
VERSION:2.0
METHOD:PUBLISH
BEGIN:VEVENT
UID:4320450:Event:25923
DTSTAMP:20260425T161546Z
SUMMARY:2012 Battle Of The 7 Cities Martial Arts Championships
DESCRIPTION:2012 BATTLE OF THE 7 CITIES Saturday, June 2, 2012It's tha
 t time again...Come for the BATTLE, stay for the weekend! Tournament s
 ite only 20 minutes from the Virginia Beach oceanfront!\nOne of the Ea
 st Coast's best tournaments to compete in--All Styles--All Ages—All 
 Ranks--Family Fun Event--Fair Competition--Organized & Well Run! Get m
 ore info and download flyer/registration form at: http://jackdarktaekw
 ondochampions.com/2012_battle_of_the_7_cities *VENDOR SPACE STILL AVAI
 LABLE* Contact Master Jack Dark at 757-671-1020 or cell 757-630-1682 S
 EE YOU AT THE BATTLE!!!\n\nFor more information visit http://phillytod
 o.com/events/2012-battle-of-the-7-cities-martial-arts-championships
DTSTART:20120602T130000Z
DTEND:20120602T220000Z
CATEGORIES:martial, arts, tournament
LOCATION:Granby HS Gym
WEBSITE:http://maps.google.com/maps?q=7101+Granby+Street,+Norfolk,+VA&
 hl=en&sll=37.0625,-95.677068&sspn=29.578161,61.611328&oq=7101+granby+s
 &hnear=7101+Granby+St,+Norfolk,+Virginia+23505&t=m&z=16
URL:http://maps.google.com/maps?q=7101+Granby+Street,+Norfolk,+VA&hl=e
 n&sll=37.0625,-95.677068&sspn=29.578161,61.611328&oq=7101+granby+s&hne
 ar=7101+Granby+St,+Norfolk,+Virginia+23505&t=m&z=16
CONTACT:757-671-1020
ORGANIZER:JACK DARK TAE KWON DO CHAMPIONS
ATTACH;FMTTYPE="image/jpeg":http://storage.ning.com/topology/rest/1.0/
 file/get/3054958585?profile=original
ATTENDEE;ROLE=REQ-PARTICIPANT;PARTSTAT=ACCEPTED;RSVP=TRUE;CN=tkdchampi
 ons:http://phillytodo.com/profile/tkdchampions
END:VEVENT
END:VCALENDAR
