BEGIN:VCALENDAR
PRODID:NingEventWidget-v1
VERSION:2.0
METHOD:PUBLISH
BEGIN:VEVENT
UID:4320450:Event:59404
DTSTAMP:20260425T163221Z
SUMMARY:20 Years of Environmental Art at the Schuylkill Center: Openin
 g Reception
DESCRIPTION:Founded in 2000 as an opportunity for artists and audience
 s to explore and interpret the natural world and current ecological is
 sues, our environmental art program has brought hundreds of artists to
  the Schuylkill Center to present contemporary art work in the gallery
  and on our trails. This exhibition celebrates the art program’s his
 tory by inviting previous exhibiting artists to revisit the work they 
 did at the Schuylkill Center, and looks to the future of environmental
  art with new artists exploring related themes. The opening reception 
 will include refreshments and remarks from the artists and curator.\n\
 nFor more information visit http://phillytodo.com/events/20-years-of-e
 nvironmental-art-at-the-schuylkill-center-opening
DTSTART:20200131T000000Z
DTEND:20200131T020000Z
CATEGORIES:art, opening
LOCATION:the Schuylkill Center
WEBSITE:http://www.schuylkillcenter.org/blog/event/20-years-of-environ
 mental-art-at-the-schuylkill-center-opening-reception/
URL:http://www.schuylkillcenter.org/blog/event/20-years-of-environment
 al-art-at-the-schuylkill-center-opening-reception/
CONTACT:
ORGANIZER;CN="The Schuylkill Center":http://phillytodo.com/profile/Ann
 aLehrMueser
ATTACH;FMTTYPE="image/jpeg":
ATTENDEE;ROLE=REQ-PARTICIPANT;PARTSTAT=ACCEPTED;RSVP=TRUE;CN="The Schu
 ylkill Center":http://phillytodo.com/profile/AnnaLehrMueser
END:VEVENT
END:VCALENDAR
