BEGIN:VCALENDAR
PRODID:NingEventWidget-v1
VERSION:2.0
METHOD:PUBLISH
BEGIN:VEVENT
UID:4320450:Event:40560
DTSTAMP:20260425T233243Z
SUMMARY:2 City Blocks Of Vintage Flea Market Vendors
DESCRIPTION:This Sat, April 11th Is Opening Day For \"The Philly Flea\
 " Rain Date - Sunday, 4/122 City Blocks Of Vintage Vendors Featuring A
 ntiques, Collectibles, Vintage Furniture, Jewelry, Clothing & Accessor
 y's, Pottery, Art Work, Industrial, Mid-Century Modern & Much More!8am
  til 5pmAlong S. 2nd Street From Pine To South Street Including Under 
 The Pavallion At \"Head House Square\"Use 500 S. 2nd Street, 19147 For
  GPSCall Our 24-Hour Info Line If Inclement Weather Is Predicted For T
 he Day Of The Market: 215 - 625 - FLEA (3532)More Info and Our Entire 
 2015 Outdoor Schedule: www.PhilaFleaMarkets.org\n\nFor more informatio
 n visit http://phillytodo.com/events/2-city-blocks-of-vintage-flea-mar
 ket-vendors
DTSTART:20150411T120000Z
DTEND:20150411T210000Z
CATEGORIES:flea, market
LOCATION:Head House Square
WEBSITE:http://www.PhilaFleaMarkets.org
URL:http://www.PhilaFleaMarkets.org
CONTACT:215 - 625 - 3532
ORGANIZER;CN="Phila Flea Markets":http://phillytodo.com/profile/PhilaF
 leaMarkets
ATTACH;FMTTYPE="image/jpeg":http://storage.ning.com/topology/rest/1.0/
 file/get/3054987320?profile=original
ATTENDEE;ROLE=REQ-PARTICIPANT;PARTSTAT=ACCEPTED;RSVP=TRUE;CN="Phila Fl
 ea Markets":http://phillytodo.com/profile/PhilaFleaMarkets
END:VEVENT
END:VCALENDAR
