BEGIN:VCALENDAR
PRODID:NingEventWidget-v1
VERSION:2.0
METHOD:PUBLISH
BEGIN:VEVENT
UID:4320450:Event:36613
DTSTAMP:20260425T163249Z
SUMMARY:2 City Blocks of Vintage Flea Market Vendors This Sat, 4/12
DESCRIPTION:WHEN\nSaturday, April 12, 2014\nWHERE200 Lombard StPhilade
 lphia, PA 19147\nABOUT\nPhila Flea Markets Presents More Than 50 Vendo
 rs Featuring Antiques, Collectibles, Furniture, Vintage Jewelry, Cloth
 ing & Accessory's, Pottery, Art Work, Great Food & Much More!This Sat,
  April 12th Along S. 2nd From Pine To South Streets Including Under Th
 e Pavilion At Head House Square In Society Hill.8AM Til 5PMFree Admiss
 ion / ATM / Handicap AccessibleUse 200 Lombard Street, 19147 For GPS D
 irectionsFor Our Entire Season's Schedule Search: www.PhilaFleaMarkets
 .org\n\nFor more information visit http://phillytodo.com/events/2-city
 -blocks-of-vintage-flea-market-vendors-this-sat-4-12
DTSTART:20140412T120000Z
DTEND:20140412T210000Z
CATEGORIES:antique, "&", vintage, flea, market
LOCATION:Head House Square
WEBSITE:http://www.PhilaFleaMarkets.org
URL:http://www.PhilaFleaMarkets.org
CONTACT:215 - 625 - 3532
ORGANIZER;CN="Phila Flea Markets":http://phillytodo.com/profile/PhilaF
 leaMarkets
ATTACH;FMTTYPE="image/jpeg":http://storage.ning.com/topology/rest/1.0/
 file/get/3054974698?profile=original
ATTENDEE;ROLE=REQ-PARTICIPANT;PARTSTAT=ACCEPTED;RSVP=TRUE;CN="Phila Fl
 ea Markets":http://phillytodo.com/profile/PhilaFleaMarkets
END:VEVENT
END:VCALENDAR
