BEGIN:VCALENDAR
PRODID:NingEventWidget-v1
VERSION:2.0
METHOD:PUBLISH
BEGIN:VEVENT
UID:4320450:Event:31897
DTSTAMP:20260425T161653Z
SUMMARY:2 City Blocks Of Flea Market Vendors Along S. 2nd St From Pine
  To South Street
DESCRIPTION:More Than 50 Vendors From The Tri-State Area Will Line S. 
 2nd Street From Pine to South Street - Under The Pavilion at HeadHouse
  Square and beyond to South Street.\nAntiques, Collectibles, Vintage F
 urniture, Jewelry, Glassware, Pottery, Great Food & Much More!\nFor Ou
 r Entire Flea Market Schedule Log Onto: www.PhilaFleaMarkets.org\n\nFo
 r more information visit http://phillytodo.com/events/2-city-blocks-of
 -flea-market-vendors-along-s-2nd-st-from-pine-to
DTSTART:20130428T120000Z
DTEND:20130428T210000Z
CATEGORIES:vintage, flea, market
LOCATION:Head House Square - 2nd & Lombard
WEBSITE:http://www.PhilaFleaMarkets.org
URL:http://www.PhilaFleaMarkets.org
CONTACT:215 - 625 - 3532
ORGANIZER;CN="Phila Flea Markets":http://phillytodo.com/profile/PhilaF
 leaMarkets
ATTACH;FMTTYPE="image/jpeg":
ATTENDEE;ROLE=REQ-PARTICIPANT;PARTSTAT=ACCEPTED;RSVP=TRUE;CN="Phila Fl
 ea Markets":http://phillytodo.com/profile/PhilaFleaMarkets
END:VEVENT
END:VCALENDAR
