BEGIN:VCALENDAR
PRODID:NingEventWidget-v1
VERSION:2.0
METHOD:PUBLISH
BEGIN:VEVENT
UID:4320450:Event:38078
DTSTAMP:20260425T173600Z
SUMMARY:19th Annual Sippin' by the River
DESCRIPTION:The 19th Annual Sippin' by the River will take place on 
 Saturday, September 13th at The River Deck ON the water in Philadelph
 ia!  That's right everyone, after MANY requests, we are back on the D
 elaware Waterfront!  The event will run from 1pm until 5 pm and ben
 efits the Philadelphia/Delaware Valley Chapter of the Crohn's & Coliti
 s Foundation of America.  For charity info, full details on what’s 
 included, and UBER driving credit, please visit the event website belo
 w.\n \nTickets & More Info:  http://www.upcomingevents.com/sippin-b
 y-the-river/ptodo\n\nFor more information visit http://phillytodo.com/
 events/19th-annual-sippin-by-the-river
DTSTART:20140913T170000Z
DTEND:20140913T210000Z
CATEGORIES:fundraiser
LOCATION:Cavanaugh’s River Deck
WEBSITE:http://www.upcomingevents.com/sippin-by-the-river/ptodo
URL:http://www.upcomingevents.com/sippin-by-the-river/ptodo
CONTACT:215-629-7400
ORGANIZER;CN="UpcomingEvents.com":http://phillytodo.com/profile/Upcomi
 ngEventscom
ATTACH;FMTTYPE="image/jpeg":http://storage.ning.com/topology/rest/1.0/
 file/get/3054980144?profile=original
ATTENDEE;ROLE=REQ-PARTICIPANT;PARTSTAT=ACCEPTED;RSVP=TRUE;CN="Upcoming
 Events.com":http://phillytodo.com/profile/UpcomingEventscom
END:VEVENT
END:VCALENDAR
