BEGIN:VCALENDAR
PRODID:NingEventWidget-v1
VERSION:2.0
METHOD:PUBLISH
BEGIN:VEVENT
UID:4320450:Event:38996
DTSTAMP:20260425T132637Z
SUMMARY:17th Annual Reindeer Romp in Fairmount
DESCRIPTION:It's The Most Wonderful Time Of The Year - For A Beer!\n 
 \nThat time of the year is back - over 1,500 people are once again exp
 ected to attend the season's favorite bar crawl.  Be sure to come out
  with your family, friends, and co-workers for the 17th Annual Reindee
 r Romp in the Fairmount / Art Museum area.  $10 and a toy gets you an
 tlers and great drink specials while you ROMP around Fairmount to Supp
 ort Charity.\n \nNEW THIS YEAR!  Romp in style. You won't have to wa
 lk from bar to bar - BE a Jolly Traveler in our upscale trolley, rente
 d exclusively for our guests!  Riding the trolley is complimentary an
 d there will be all sorts of fun things on the trolley - stop list com
 ing soon.\n \nDRINK SPECIALS for this Sam Adams Sponsored Event inclu
 de $3 specialty Sam Adams & Jolly Traveler seers flowing all night.  
 Hang out with hundreds of new and old friends. Get there early, stay l
 ate - the event goes until 2am!\n \nRomp Map, RSVP, & More Info: ht
 tp://www.upcomingevents.com/philadelphia/fairmount-reindeer-romp/ptodo
 /\n\nFor more information visit http://phillytodo.com/events/17th-annu
 al-reindeer-romp-in-fairmount
DTSTART:20141218T230000Z
DTEND:20141219T070000Z
CATEGORIES:bar, crawl
LOCATION:Fairmount Area
WEBSITE:
URL:
CONTACT:
ORGANIZER;CN="UpcomingEvents.com":http://phillytodo.com/profile/Upcomi
 ngEventscom
ATTACH;FMTTYPE="image/jpeg":http://storage.ning.com/topology/rest/1.0/
 file/get/3054980991?profile=original
ATTENDEE;ROLE=REQ-PARTICIPANT;PARTSTAT=ACCEPTED;RSVP=TRUE;CN="Upcoming
 Events.com":http://phillytodo.com/profile/UpcomingEventscom
END:VEVENT
END:VCALENDAR
