BEGIN:VCALENDAR
PRODID:NingEventWidget-v1
VERSION:2.0
METHOD:PUBLISH
BEGIN:VEVENT
UID:4320450:Event:40305
DTSTAMP:20260425T133110Z
SUMMARY:17th Annual Manayunk BBQ, Bourbon, and Blues Craft Beer Fest
DESCRIPTION:Now in its 17th year, this beer lover's delight offers 4+ 
 hours of tastings of 60+ craft beers made by some of the best craft br
 eweries.  Enjoy live blues & bands all day long.  Multiple serving a
 reas & rooms!  Plus, this year we have added bourbon samples, BBQ sam
 ples, vendors, and more!!  Are you a vendor and want to have a table 
 at this event?  Please contact the organizer.  VIP, Gen Adm, and DD 
 Tickets available.  INCREDIBLE VALUE!  \n\nFor more information visi
 t http://phillytodo.com/events/17th-annual-manayunk-bbq-bourbon-and-bl
 ues-craft-beer-fest
DTSTART:20150425T170000Z
DTEND:20150425T210000Z
CATEGORIES:beer, fest
LOCATION:Manayunk Brewery and Restaurant
WEBSITE:http://www.upcomingevents.com/e/17th-annual-manayunk-bbq-bourb
 on-and-blues-craft-beer-fest-21587/?ref=ptodo
URL:http://www.upcomingevents.com/e/17th-annual-manayunk-bbq-bourbon-a
 nd-blues-craft-beer-fest-21587/?ref=ptodo
CONTACT:
ORGANIZER;CN="UpcomingEvents.com":http://phillytodo.com/profile/Upcomi
 ngEventscom
ATTACH;FMTTYPE="image/jpeg":http://storage.ning.com/topology/rest/1.0/
 file/get/3054987667?profile=original
ATTENDEE;ROLE=REQ-PARTICIPANT;PARTSTAT=ACCEPTED;RSVP=TRUE;CN="Upcoming
 Events.com":http://phillytodo.com/profile/UpcomingEventscom
END:VEVENT
END:VCALENDAR
